BEGIN:VCALENDAR
VERSION:2.0
PRODID:-//10.20.0.58//NONSGML kigkonsult.se iCalcreator 2.26.9//
CALSCALE:GREGORIAN
METHOD:PUBLISH
X-WR-CALNAME:CEMTUR - Centro de Estudios Multidisciplinarios del Turismo.
X-WR-CALDESC:Centro de Estudios Multidisciplinarios del Turismo.
X-FROM-URL:https://www.reduc.edu.cu/cemtur
X-WR-TIMEZONE:Atlantic/Azores
BEGIN:VTIMEZONE
TZID:Atlantic/Azores
X-LIC-LOCATION:Atlantic/Azores
BEGIN:STANDARD
DTSTART:20191027T010000
TZOFFSETFROM:+0000
TZOFFSETTO:-0100
RDATE:20201025T010000
TZNAME:-01
END:STANDARD
BEGIN:DAYLIGHT
DTSTART:20200329T000000
TZOFFSETFROM:-0100
TZOFFSETTO:+0000
RDATE:20210328T000000
TZNAME:+00
END:DAYLIGHT
END:VTIMEZONE
BEGIN:VEVENT
UID:ai1ec-914@www.reduc.edu.cu/cemtur
DTSTAMP:20191117T170613Z
CATEGORIES:
CONTACT:Centro de Estudios Multidisciplinarios del Turismo (CEMTUR)\; +53 3
 2266307\; cemtur.uc@reduc.edu.cu\; www.reduc.edu.cu/cemtur
DESCRIPTION:
DTSTART;VALUE=DATE:20191115
DTEND;VALUE=DATE:20191116
LOCATION:Aula Especializada AMADEUS - Centro de Estudios Multidisciplinario
 s del Turismo @ Universidad de Camagüey
SEQUENCE:0
SUMMARY:Inauguración de la Maestría en Gestión Turística
URL:https://www.reduc.edu.cu/cemtur/evento/inauguracion-de-la-maestria-en-g
 estion-turistica/
X-COST-TYPE:free
END:VEVENT
END:VCALENDAR
